BEGIN:VCALENDAR
VERSION:2.0
PRODID:-//La Reina Pepiada - ECPv6.10.1.1//NONSGML v1.0//EN
CALSCALE:GREGORIAN
METHOD:PUBLISH
X-ORIGINAL-URL:https://lareinapepiada.com
X-WR-CALDESC:Eventos para La Reina Pepiada
REFRESH-INTERVAL;VALUE=DURATION:PT1H
X-Robots-Tag:noindex
X-PUBLISHED-TTL:PT1H
BEGIN:VTIMEZONE
TZID:UTC
BEGIN:STANDARD
TZOFFSETFROM:+0000
TZOFFSETTO:+0000
TZNAME:UTC
DTSTART:20210101T000000
END:STANDARD
END:VTIMEZONE
BEGIN:VEVENT
DTSTART;TZID=UTC:20210801T080000
DTEND;TZID=UTC:20210801T170000
DTSTAMP:20260422T230222
CREATED:20210214T214623Z
LAST-MODIFIED:20210214T214715Z
UID:2218-1627804800-1627837200@lareinapepiada.com
SUMMARY:Bailen Foodtruck
DESCRIPTION:
URL:https://lareinapepiada.com/event/bailen-foodtruck/
LOCATION:Bailen\, Paseo Palmeras\, Bailen\, Bailen\, Italia
CATEGORIES:Foodtruck
ATTACH;FMTTYPE=image/jpeg:https://lareinapepiada.com/wp-content/uploads/2020/11/Foodtruck.jpg
END:VEVENT
END:VCALENDAR